BEGIN:VCALENDAR
VERSION:2.0
PRODID:-//Sacred Heart Transformative Learning Program - ECPv6.15.18//NONSGML v1.0//EN
CALSCALE:GREGORIAN
METHOD:PUBLISH
X-ORIGINAL-URL:https://shtlp.stuartcenter.org
X-WR-CALDESC:Events for Sacred Heart Transformative Learning Program
REFRESH-INTERVAL;VALUE=DURATION:PT1H
X-Robots-Tag:noindex
X-PUBLISHED-TTL:PT1H
BEGIN:VTIMEZONE
TZID:America/Mexico_City
BEGIN:STANDARD
TZOFFSETFROM:-0600
TZOFFSETTO:-0600
TZNAME:CST
DTSTART:20240101T000000
END:STANDARD
END:VTIMEZONE
BEGIN:VEVENT
DTSTART;TZID=America/Mexico_City:20260316T150000
DTEND;TZID=America/Mexico_City:20260316T163000
DTSTAMP:20260420T112904
CREATED:20260112T213934Z
LAST-MODIFIED:20260126T174854Z
UID:10000171-1773673200-1773678600@shtlp.stuartcenter.org
SUMMARY:Compassionate Communication Module 2026
DESCRIPTION:  \n\n\nMeeting Zoom Link\nSHTL Harvest Monday March 23\, 2026
URL:https://shtlp.stuartcenter.org/event/compassionate-communication-module-2026/2026-03-16/
CATEGORIES:Compassionate Communication
LOCATION:https://stuartcenter-org.zoom.us/j/87881168493?pwd=KA5vbziIzFcDWSNNbll9FERKoZCNEk.1
END:VEVENT
BEGIN:VEVENT
DTSTART;TZID=America/Mexico_City:20260309T150000
DTEND;TZID=America/Mexico_City:20260309T163000
DTSTAMP:20260420T112904
CREATED:20260112T213934Z
LAST-MODIFIED:20260126T174854Z
UID:10000170-1773068400-1773073800@shtlp.stuartcenter.org
SUMMARY:Compassionate Communication Module 2026
DESCRIPTION:  \n\n\nMeeting Zoom Link\nSHTL Harvest Monday March 23\, 2026
URL:https://shtlp.stuartcenter.org/event/compassionate-communication-module-2026/2026-03-09/
CATEGORIES:Compassionate Communication
LOCATION:https://stuartcenter-org.zoom.us/j/87881168493?pwd=KA5vbziIzFcDWSNNbll9FERKoZCNEk.1
END:VEVENT
BEGIN:VEVENT
DTSTART;TZID=America/Mexico_City:20260302T150000
DTEND;TZID=America/Mexico_City:20260302T163000
DTSTAMP:20260420T112904
CREATED:20260112T213934Z
LAST-MODIFIED:20260126T174854Z
UID:10000169-1772463600-1772469000@shtlp.stuartcenter.org
SUMMARY:Compassionate Communication Module 2026
DESCRIPTION:  \n\n\nMeeting Zoom Link\nSHTL Harvest Monday March 23\, 2026
URL:https://shtlp.stuartcenter.org/event/compassionate-communication-module-2026/2026-03-02/
CATEGORIES:Compassionate Communication
LOCATION:https://stuartcenter-org.zoom.us/j/87881168493?pwd=KA5vbziIzFcDWSNNbll9FERKoZCNEk.1
END:VEVENT
BEGIN:VEVENT
DTSTART;TZID=America/Mexico_City:20260223T150000
DTEND;TZID=America/Mexico_City:20260223T163000
DTSTAMP:20260420T112904
CREATED:20260112T213934Z
LAST-MODIFIED:20260126T174854Z
UID:10000168-1771858800-1771864200@shtlp.stuartcenter.org
SUMMARY:Compassionate Communication Module 2026
DESCRIPTION:  \n\n\nMeeting Zoom Link\nSHTL Harvest Monday March 23\, 2026
URL:https://shtlp.stuartcenter.org/event/compassionate-communication-module-2026/2026-02-23/
CATEGORIES:Compassionate Communication
LOCATION:https://stuartcenter-org.zoom.us/j/87881168493?pwd=KA5vbziIzFcDWSNNbll9FERKoZCNEk.1
END:VEVENT
BEGIN:VEVENT
DTSTART;TZID=America/Mexico_City:20260216T150000
DTEND;TZID=America/Mexico_City:20260216T163000
DTSTAMP:20260420T112904
CREATED:20260112T213934Z
LAST-MODIFIED:20260126T174854Z
UID:10000167-1771254000-1771259400@shtlp.stuartcenter.org
SUMMARY:Compassionate Communication Module 2026
DESCRIPTION:  \n\n\nMeeting Zoom Link\nSHTL Harvest Monday March 23\, 2026
URL:https://shtlp.stuartcenter.org/event/compassionate-communication-module-2026/2026-02-16/
CATEGORIES:Compassionate Communication
LOCATION:https://stuartcenter-org.zoom.us/j/87881168493?pwd=KA5vbziIzFcDWSNNbll9FERKoZCNEk.1
END:VEVENT
BEGIN:VEVENT
DTSTART;TZID=America/Mexico_City:20260209T150000
DTEND;TZID=America/Mexico_City:20260209T163000
DTSTAMP:20260420T112904
CREATED:20260112T213934Z
LAST-MODIFIED:20260126T174854Z
UID:10000166-1770649200-1770654600@shtlp.stuartcenter.org
SUMMARY:Compassionate Communication Module 2026
DESCRIPTION:  \n\n\nMeeting Zoom Link\nSHTL Harvest Monday March 23\, 2026
URL:https://shtlp.stuartcenter.org/event/compassionate-communication-module-2026/2026-02-09/
CATEGORIES:Compassionate Communication
LOCATION:https://stuartcenter-org.zoom.us/j/87881168493?pwd=KA5vbziIzFcDWSNNbll9FERKoZCNEk.1
END:VEVENT
BEGIN:VEVENT
DTSTART;TZID=America/Mexico_City:20260202T150000
DTEND;TZID=America/Mexico_City:20260202T163000
DTSTAMP:20260420T112904
CREATED:20260112T213934Z
LAST-MODIFIED:20260126T174854Z
UID:10000165-1770044400-1770049800@shtlp.stuartcenter.org
SUMMARY:Compassionate Communication Module 2026
DESCRIPTION:  \n\n\nMeeting Zoom Link\nSHTL Harvest Monday March 23\, 2026
URL:https://shtlp.stuartcenter.org/event/compassionate-communication-module-2026/2026-02-02/
CATEGORIES:Compassionate Communication
LOCATION:https://stuartcenter-org.zoom.us/j/87881168493?pwd=KA5vbziIzFcDWSNNbll9FERKoZCNEk.1
END:VEVENT
BEGIN:VEVENT
DTSTART;TZID=America/Mexico_City:20260126T150000
DTEND;TZID=America/Mexico_City:20260126T163000
DTSTAMP:20260420T112904
CREATED:20260112T213934Z
LAST-MODIFIED:20260126T174854Z
UID:10000164-1769439600-1769445000@shtlp.stuartcenter.org
SUMMARY:Compassionate Communication Module 2026
DESCRIPTION:  \n\n\nMeeting Zoom Link\nSHTL Harvest Monday March 23\, 2026
URL:https://shtlp.stuartcenter.org/event/compassionate-communication-module-2026/2026-01-26/
CATEGORIES:Compassionate Communication
LOCATION:https://stuartcenter-org.zoom.us/j/87881168493?pwd=KA5vbziIzFcDWSNNbll9FERKoZCNEk.1
END:VEVENT
BEGIN:VEVENT
DTSTART;TZID=America/Mexico_City:20251117T160000
DTEND;TZID=America/Mexico_City:20251117T173000
DTSTAMP:20260420T112904
CREATED:20250928T001542Z
LAST-MODIFIED:20251104T151758Z
UID:10000059-1763395200-1763400600@shtlp.stuartcenter.org
SUMMARY:Compassionate Communciation Meeting
DESCRIPTION:3:00 pm PT\n4:OO pm MT México\n5:00 pm CT Perú\n6:OO pm ET-Venezuela\n7:00 pm ARAU \nZoom Meeting Link
URL:https://shtlp.stuartcenter.org/event/compassionate-communciation-meeting-300-pm-pt-4oo-pm-mt-mexico-500-pm-ct-peru-6oo-pm-et-venezuela-700-pm-arau/2025-11-17/
CATEGORIES:Compassionate Communication
END:VEVENT
BEGIN:VEVENT
DTSTART;TZID=America/Mexico_City:20251110T160000
DTEND;TZID=America/Mexico_City:20251110T173000
DTSTAMP:20260420T112904
CREATED:20250928T001542Z
LAST-MODIFIED:20251104T151758Z
UID:10000058-1762790400-1762795800@shtlp.stuartcenter.org
SUMMARY:Compassionate Communciation Meeting
DESCRIPTION:3:00 pm PT\n4:OO pm MT México\n5:00 pm CT Perú\n6:OO pm ET-Venezuela\n7:00 pm ARAU \nZoom Meeting Link
URL:https://shtlp.stuartcenter.org/event/compassionate-communciation-meeting-300-pm-pt-4oo-pm-mt-mexico-500-pm-ct-peru-6oo-pm-et-venezuela-700-pm-arau/2025-11-10/
CATEGORIES:Compassionate Communication
END:VEVENT
BEGIN:VEVENT
DTSTART;TZID=America/Mexico_City:20251103T160000
DTEND;TZID=America/Mexico_City:20251103T173000
DTSTAMP:20260420T112904
CREATED:20250928T001542Z
LAST-MODIFIED:20251104T151758Z
UID:10000057-1762185600-1762191000@shtlp.stuartcenter.org
SUMMARY:Compassionate Communciation Meeting
DESCRIPTION:3:00 pm PT\n4:OO pm MT México\n5:00 pm CT Perú\n6:OO pm ET-Venezuela\n7:00 pm ARAU \nZoom Meeting Link
URL:https://shtlp.stuartcenter.org/event/compassionate-communciation-meeting-300-pm-pt-4oo-pm-mt-mexico-500-pm-ct-peru-6oo-pm-et-venezuela-700-pm-arau/2025-11-03/
CATEGORIES:Compassionate Communication
END:VEVENT
BEGIN:VEVENT
DTSTART;TZID=America/Mexico_City:20251027T160000
DTEND;TZID=America/Mexico_City:20251027T173000
DTSTAMP:20260420T112904
CREATED:20250928T001542Z
LAST-MODIFIED:20251104T151758Z
UID:10000056-1761580800-1761586200@shtlp.stuartcenter.org
SUMMARY:Compassionate Communciation Meeting
DESCRIPTION:3:00 pm PT\n4:OO pm MT México\n5:00 pm CT Perú\n6:OO pm ET-Venezuela\n7:00 pm ARAU \nZoom Meeting Link
URL:https://shtlp.stuartcenter.org/event/compassionate-communciation-meeting-300-pm-pt-4oo-pm-mt-mexico-500-pm-ct-peru-6oo-pm-et-venezuela-700-pm-arau/2025-10-27/
CATEGORIES:Compassionate Communication
END:VEVENT
BEGIN:VEVENT
DTSTART;TZID=America/Mexico_City:20251020T160000
DTEND;TZID=America/Mexico_City:20251020T173000
DTSTAMP:20260420T112904
CREATED:20250928T001542Z
LAST-MODIFIED:20251104T151758Z
UID:10000055-1760976000-1760981400@shtlp.stuartcenter.org
SUMMARY:Compassionate Communciation Meeting
DESCRIPTION:3:00 pm PT\n4:OO pm MT México\n5:00 pm CT Perú\n6:OO pm ET-Venezuela\n7:00 pm ARAU \nZoom Meeting Link
URL:https://shtlp.stuartcenter.org/event/compassionate-communciation-meeting-300-pm-pt-4oo-pm-mt-mexico-500-pm-ct-peru-6oo-pm-et-venezuela-700-pm-arau/2025-10-20/
CATEGORIES:Compassionate Communication
END:VEVENT
BEGIN:VEVENT
DTSTART;TZID=America/Mexico_City:20251013T160000
DTEND;TZID=America/Mexico_City:20251013T173000
DTSTAMP:20260420T112904
CREATED:20250928T001542Z
LAST-MODIFIED:20251104T151758Z
UID:10000054-1760371200-1760376600@shtlp.stuartcenter.org
SUMMARY:Compassionate Communciation Meeting
DESCRIPTION:3:00 pm PT\n4:OO pm MT México\n5:00 pm CT Perú\n6:OO pm ET-Venezuela\n7:00 pm ARAU \nZoom Meeting Link
URL:https://shtlp.stuartcenter.org/event/compassionate-communciation-meeting-300-pm-pt-4oo-pm-mt-mexico-500-pm-ct-peru-6oo-pm-et-venezuela-700-pm-arau/2025-10-13/
CATEGORIES:Compassionate Communication
END:VEVENT
BEGIN:VEVENT
DTSTART;TZID=America/Mexico_City:20251006T160000
DTEND;TZID=America/Mexico_City:20251006T173000
DTSTAMP:20260420T112904
CREATED:20250928T001542Z
LAST-MODIFIED:20251104T151758Z
UID:10000053-1759766400-1759771800@shtlp.stuartcenter.org
SUMMARY:Compassionate Communciation Meeting
DESCRIPTION:3:00 pm PT\n4:OO pm MT México\n5:00 pm CT Perú\n6:OO pm ET-Venezuela\n7:00 pm ARAU \nZoom Meeting Link
URL:https://shtlp.stuartcenter.org/event/compassionate-communciation-meeting-300-pm-pt-4oo-pm-mt-mexico-500-pm-ct-peru-6oo-pm-et-venezuela-700-pm-arau/2025-10-06/
CATEGORIES:Compassionate Communication
END:VEVENT
BEGIN:VEVENT
DTSTART;TZID=America/Mexico_City:20250929T160000
DTEND;TZID=America/Mexico_City:20250929T173000
DTSTAMP:20260420T112904
CREATED:20250928T001542Z
LAST-MODIFIED:20251104T151758Z
UID:10000052-1759161600-1759167000@shtlp.stuartcenter.org
SUMMARY:Compassionate Communciation Meeting
DESCRIPTION:3:00 pm PT\n4:OO pm MT México\n5:00 pm CT Perú\n6:OO pm ET-Venezuela\n7:00 pm ARAU \nZoom Meeting Link
URL:https://shtlp.stuartcenter.org/event/compassionate-communciation-meeting-300-pm-pt-4oo-pm-mt-mexico-500-pm-ct-peru-6oo-pm-et-venezuela-700-pm-arau/2025-09-29/
CATEGORIES:Compassionate Communication
END:VEVENT
END:VCALENDAR