BEGIN:VCALENDAR
VERSION:2.0
PRODID:-//Sacred Heart Transformative Learning Program - ECPv6.15.18//NONSGML v1.0//EN
CALSCALE:GREGORIAN
METHOD:PUBLISH
X-WR-CALNAME:Sacred Heart Transformative Learning Program
X-ORIGINAL-URL:https://shtlp.stuartcenter.org
X-WR-CALDESC:Events for Sacred Heart Transformative Learning Program
REFRESH-INTERVAL;VALUE=DURATION:PT1H
X-Robots-Tag:noindex
X-PUBLISHED-TTL:PT1H
BEGIN:VTIMEZONE
TZID:America/Mexico_City
BEGIN:STANDARD
TZOFFSETFROM:-0600
TZOFFSETTO:-0600
TZNAME:CST
DTSTART:20250101T000000
END:STANDARD
END:VTIMEZONE
BEGIN:VEVENT
DTSTART;TZID=America/Mexico_City:20260302T150000
DTEND;TZID=America/Mexico_City:20260302T163000
DTSTAMP:20260422T084816
CREATED:20260112T213934Z
LAST-MODIFIED:20260126T174854Z
UID:10000169-1772463600-1772469000@shtlp.stuartcenter.org
SUMMARY:Compassionate Communication Module 2026
DESCRIPTION:  \n\n\nMeeting Zoom Link\nSHTL Harvest Monday March 23\, 2026
URL:https://shtlp.stuartcenter.org/event/compassionate-communication-module-2026/2026-03-02/
CATEGORIES:Compassionate Communication
LOCATION:https://stuartcenter-org.zoom.us/j/87881168493?pwd=KA5vbziIzFcDWSNNbll9FERKoZCNEk.1
END:VEVENT
BEGIN:VEVENT
DTSTART;TZID=America/Mexico_City:20260309T150000
DTEND;TZID=America/Mexico_City:20260309T163000
DTSTAMP:20260422T084816
CREATED:20260112T213934Z
LAST-MODIFIED:20260126T174854Z
UID:10000170-1773068400-1773073800@shtlp.stuartcenter.org
SUMMARY:Compassionate Communication Module 2026
DESCRIPTION:  \n\n\nMeeting Zoom Link\nSHTL Harvest Monday March 23\, 2026
URL:https://shtlp.stuartcenter.org/event/compassionate-communication-module-2026/2026-03-09/
CATEGORIES:Compassionate Communication
LOCATION:https://stuartcenter-org.zoom.us/j/87881168493?pwd=KA5vbziIzFcDWSNNbll9FERKoZCNEk.1
END:VEVENT
BEGIN:VEVENT
DTSTART;TZID=America/Mexico_City:20260316T150000
DTEND;TZID=America/Mexico_City:20260316T163000
DTSTAMP:20260422T084816
CREATED:20260112T213934Z
LAST-MODIFIED:20260126T174854Z
UID:10000171-1773673200-1773678600@shtlp.stuartcenter.org
SUMMARY:Compassionate Communication Module 2026
DESCRIPTION:  \n\n\nMeeting Zoom Link\nSHTL Harvest Monday March 23\, 2026
URL:https://shtlp.stuartcenter.org/event/compassionate-communication-module-2026/2026-03-16/
CATEGORIES:Compassionate Communication
LOCATION:https://stuartcenter-org.zoom.us/j/87881168493?pwd=KA5vbziIzFcDWSNNbll9FERKoZCNEk.1
END:VEVENT
END:VCALENDAR